View In:
ArcGIS JavaScript
ArcGIS Online Map Viewer
ArcGIS Earth
ArcMap
View Footprint In:
ArcGIS Online Map Viewer
Service Description: Hosted/Imagery2022c
Name: Hosted/Imagery2022c
Description:
Single Fused Map Cache: true
Tile Info:
- Height: 256
- Width: 256
- DPI: 96
-
Levels of Detail: 11
-
Level ID: 0
[ Start Tile, End Tile ]
- Resolution: 78.02895605791096
- Scale: 294911.99999999563
-
Level ID: 1
[ Start Tile, End Tile ]
- Resolution: 39.01447802895548
- Scale: 147455.99999999782
-
Level ID: 2
[ Start Tile, End Tile ]
- Resolution: 19.50723901447774
- Scale: 73727.99999999891
-
Level ID: 3
[ Start Tile, End Tile ]
- Resolution: 9.75361950723887
- Scale: 36863.999999999454
-
Level ID: 4
[ Start Tile, End Tile ]
- Resolution: 4.876809753619435
- Scale: 18431.999999999727
-
Level ID: 5
[ Start Tile, End Tile ]
- Resolution: 2.4384048768097175
- Scale: 9215.999999999864
-
Level ID: 6
[ Start Tile, End Tile ]
- Resolution: 1.2192024384048588
- Scale: 4607.999999999932
-
Level ID: 7
[ Start Tile, End Tile ]
- Resolution: 0.6096012192024294
- Scale: 2303.999999999966
-
Level ID: 8
[ Start Tile, End Tile ]
- Resolution: 0.3048006096012147
- Scale: 1151.999999999983
-
Level ID: 9
[ Start Tile, End Tile ]
- Resolution: 0.15240030480060734
- Scale: 575.9999999999915
-
Level ID: 10
[ Start Tile, End Tile ]
- Resolution: 0.07620015240030367
- Scale: 287.99999999999574
- Format: LERC2D
- Compression Quality: 100000.0
- LERC Error: 0.1
- Origin: X: -1.30320157247E7
Y: 5854133.097400002
- Spatial Reference: 102100
(3857)
Storage Info:
- Storage Format: esriMapCacheStorageModeCompactV2
- Packet Size: 16
Extent:
XMin: -1.30320157247E7
YMin: 5835323.546980902
XMax: -1.3006773662215875E7
YMax: 5854133.097400002
Spatial Reference: 102100
(3857)
Initial Extent:
XMin: -1.30320157247E7
YMin: 5835323.546980902
XMax: -1.3006773662215875E7
YMax: 5854133.097400002
Spatial Reference: 102100
(3857)
Full Extent:
XMin: -1.30320157247E7
YMin: 5835323.546980902
XMax: -1.3006773662215875E7
YMax: 5854133.097400002
Spatial Reference: 102100
(3857)
Pixel Size X: 0.07620015240030392
Pixel Size Y: 0.07620015240030367
Band Count: 3
Pixel Type: U8
RasterFunction Infos: {"rasterFunctionInfos": [{
"name": "None",
"description": "",
"help": ""
}]}
Mensuration Capabilities: Basic
Has Histograms: true
Has Colormap: false
Has Multi Dimensions : false
Rendering Rule:
Min Scale: 0
Max Scale: 0
Copyright Text:
Service Data Type: esriImageServiceDataTypeRGB
Min Values: 0, 0, 0
Max Values: 255, 255, 255
Mean Values: 123.88664917469941, 110.02924465896861, 87.0505040397962
Standard Deviation Values: 46.92131909974117, 38.40657758133757, 35.201524724613044
Object ID Field:
Fields:
None
Default Mosaic Method: Center
Allowed Mosaic Methods:
SortField:
SortValue: null
Mosaic Operator: First
Default Compression Quality: 75
Default Resampling Method: Bilinear
Max Record Count: null
Max Image Height: 4100
Max Image Width: 15000
Max Download Image Count: null
Max Mosaic Image Count: null
Allow Raster Function: true
Allow Copy: true
Allow Analysis: true
Allow Compute TiePoints: false
Supports Statistics: false
Supports Advanced Queries: false
Use StandardizedQueries: true
Raster Type Infos:
Name: Raster Dataset
Description: Supports all ArcGIS Raster Datasets
Help:
Has Raster Attribute Table: false
Edit Fields Info: null
Ownership Based AccessControl For Rasters: null
Child Resources:
Info
Histograms
Statistics
Key Properties
Legend
Raster Function Infos
Supported Operations:
Export Image
Identify
Compute Histograms
Compute Statistics Histograms
Get Samples
Compute Class Statistics
Query Boundary
Compute Pixel Location
Compute Angles
Validate
Project