{
 "currentVersion": 10.91,
 "serviceDescription": "Hosted/Imagery2022c",
 "name": "Hosted/Imagery2022c",
 "description": "",
 "extent": {
  "xmin": -1.30320157247E7,
  "ymin": 5835323.546980902,
  "xmax": -1.3006773662215875E7,
  "ymax": 5854133.097400002,
  "spatialReference": {
   "wkid": 102100,
   "latestWkid": 3857
  }
 },
 "initialExtent": {
  "xmin": -1.30320157247E7,
  "ymin": 5835323.546980902,
  "xmax": -1.3006773662215875E7,
  "ymax": 5854133.097400002,
  "spatialReference": {
   "wkid": 102100,
   "latestWkid": 3857
  }
 },
 "fullExtent": {
  "xmin": -1.30320157247E7,
  "ymin": 5835323.546980902,
  "xmax": -1.3006773662215875E7,
  "ymax": 5854133.097400002,
  "spatialReference": {
   "wkid": 102100,
   "latestWkid": 3857
  }
 },
 "hasMultidimensions": false,
 "pixelSizeX": 0.07620015240030392,
 "pixelSizeY": 0.07620015240030367,
 "datasetFormat": "Cache/LERC2D",
 "uncompressedSize": 245308630320,
 "blockWidth": 256,
 "blockHeight": 256,
 "compressionType": "LERC2D",
 "bandNames": [
  "Band_1",
  "Band_2",
  "Band_3"
 ],
 "allowCopy": true,
 "allowAnalysis": true,
 "bandCount": 3,
 "noDataValue": 256,
 "noDataValues": [
  256,
  256,
  256
 ],
 "pixelType": "U8",
 "minPixelSize": 0,
 "maxPixelSize": 0,
 "copyrightText": "",
 "serviceDataType": "esriImageServiceDataTypeRGB",
 "serviceSourceType": "esriImageServiceSourceTypeDataset",
 "minValues": [
  0,
  0,
  0
 ],
 "maxValues": [
  255,
  255,
  255
 ],
 "meanValues": [
  123.88664917469941,
  110.02924465896861,
  87.0505040397962
 ],
 "stdvValues": [
  46.92131909974117,
  38.40657758133757,
  35.201524724613044
 ],
 "objectIdField": "",
 "fields": [],
 "capabilities": "Image, Metadata",
 "defaultMosaicMethod": "Center",
 "allowedMosaicMethods": "",
 "sortField": "",
 "sortValue": null,
 "sortAscending": true,
 "mosaicOperator": "First",
 "defaultCompressionQuality": 75,
 "defaultResamplingMethod": "Bilinear",
 "maxImageHeight": 4100,
 "maxImageWidth": 15000,
 "singleFusedMapCache": true,
 "tileInfo": {
  "rows": 256,
  "cols": 256,
  "dpi": 96,
  "format": "LERC2D",
  "compressionQuality": 100000,
  "lercError": 0.1,
  "origin": {
   "x": -1.30320157247E7,
   "y": 5854133.097400002
  },
  "spatialReference": {
   "wkid": 102100,
   "latestWkid": 3857
  },
  "lods": [
   {
    "level": 0,
    "resolution": 78.02895605791096,
    "scale": 294911.99999999563
   },
   {
    "level": 1,
    "resolution": 39.01447802895548,
    "scale": 147455.99999999782
   },
   {
    "level": 2,
    "resolution": 19.50723901447774,
    "scale": 73727.99999999891
   },
   {
    "level": 3,
    "resolution": 9.75361950723887,
    "scale": 36863.999999999454
   },
   {
    "level": 4,
    "resolution": 4.876809753619435,
    "scale": 18431.999999999727
   },
   {
    "level": 5,
    "resolution": 2.4384048768097175,
    "scale": 9215.999999999864
   },
   {
    "level": 6,
    "resolution": 1.2192024384048588,
    "scale": 4607.999999999932
   },
   {
    "level": 7,
    "resolution": 0.6096012192024294,
    "scale": 2303.999999999966
   },
   {
    "level": 8,
    "resolution": 0.3048006096012147,
    "scale": 1151.999999999983
   },
   {
    "level": 9,
    "resolution": 0.15240030480060734,
    "scale": 575.9999999999915
   },
   {
    "level": 10,
    "resolution": 0.07620015240030367,
    "scale": 287.99999999999574
   }
  ]
 },
 "storageInfo": {
  "storageFormat": "esriMapCacheStorageModeCompactV2",
  "packetSize": 16
 },
 "cacheType": "Raster",
 "allowRasterFunction": true,
 "rasterFunctionInfos": [
  {
   "name": "None",
   "description": "",
   "help": ""
  }
 ],
 "rasterTypeInfos": [
  {
   "name": "Raster Dataset",
   "description": "Supports all ArcGIS Raster Datasets",
   "help": ""
  }
 ],
 "mensurationCapabilities": "Basic",
 "hasHistograms": true,
 "hasColormap": false,
 "hasRasterAttributeTable": false,
 "minScale": 0,
 "maxScale": 0,
 "exportTilesAllowed": false,
 "supportsStatistics": false,
 "supportsAdvancedQueries": false,
 "editFieldsInfo": null,
 "ownershipBasedAccessControlForRasters": null,
 "allowComputeTiePoints": false,
 "useStandardizedQueries": true,
 "advancedQueryCapabilities": {
  "useStandardizedQueries": true,
  "supportsStatistics": false,
  "supportsOrderBy": false,
  "supportsDistinct": false,
  "supportsPagination": false
 },
 "spatialReference": {
  "wkid": 102100,
  "latestWkid": 3857
 }
}
