View In:
ArcGIS JavaScript
ArcGIS Online Map Viewer
ArcGIS Earth
ArcMap
View Footprint In:
ArcGIS Online Map Viewer
Service Description: Nez Perce County, Lewis Clark Valley area 0.25 ortho images, from Aero-Graphics, Inc., flown on March 10, 2020. 300 tiles cover 88 square miles over the area of interest and are available in TIFF and SID formats.
The Lewis Clark Valley project was horizontally referenced to the North American Datum of 1983 (NAD83) 2011, Idaho: State Plane Idaho West Zone (Idaho portions), Washington: State Plane Washington South (Washington portions), and vertically referenced to the North American Vertical Datum of NAVD 1988. Survey Feet have been adusted to ground for the Idaho portions. Units are in U.S. Foot.
Name: Flights/Imagery2020w
Description: Nez Perce County, Lewis Clark Valley area 0.25 ortho images, from Aero-Graphics, Inc., flown on March 10, 2020. 300 tiles cover 88 square miles over the area of interest and are available in TIFF and SID formats.
The Lewis Clark Valley project was horizontally referenced to the North American Datum of 1983 (NAD83) 2011, Idaho: State Plane Idaho West Zone (Idaho portions), Washington: State Plane Washington South (Washington portions), and vertically referenced to the North American Vertical Datum of NAVD 1988. Survey Feet have been adusted to ground for the Idaho portions. Units are in U.S. Foot.
Single Fused Map Cache: true
Tile Info:
- Height: 256
- Width: 256
- DPI: 96
-
Levels of Detail: 14
- Format: MIXED
- Compression Quality: 75.0
- LERC Error: NaN
- Origin: X: -1.174983E8
Y: 1.394271E8
- Spatial Reference: 102749
(2286)
Extent:
XMin: 2480999.755871
YMin: 377999.853385
XMax: 2520000.005871
YMax: 423000.103385
Spatial Reference: 102749
(2286)
Initial Extent:
XMin: 2480999.755871
YMin: 377999.853385
XMax: 2520000.005871
YMax: 423000.103385
Spatial Reference: 102749
(2286)
Full Extent:
XMin: 2480999.755871
YMin: 377999.853385
XMax: 2520000.005871
YMax: 423000.103385
Spatial Reference: 102749
(2286)
Pixel Size X: 0.25
Pixel Size Y: 0.25
Band Count: 3
Pixel Type: U8
RasterFunction Infos: {"rasterFunctionInfos": [{
"name": "None",
"description": "",
"help": ""
}]}
Mensuration Capabilities: Basic
Has Histograms: true
Has Colormap: false
Has Multi Dimensions : false
Rendering Rule:
Min Scale: 64000
Max Scale: 250
Copyright Text:
Service Data Type: esriImageServiceDataTypeRGB
Min Values: 5, 7, 4
Max Values: 255, 255, 255
Mean Values: 166.8431227863, 163.94731404959, 156.62101534829
Standard Deviation Values: 76.571559311045, 78.171526232042, 83.815120559409
Object ID Field:
Fields:
None
Default Mosaic Method: Center
Allowed Mosaic Methods:
SortField:
SortValue: null
Mosaic Operator: First
Default Compression Quality: 75
Default Resampling Method: Bilinear
Max Record Count: null
Max Image Height: 4100
Max Image Width: 15000
Max Download Image Count: null
Max Mosaic Image Count: null
Allow Raster Function: true
Allow Copy: null
Allow Analysis: null
Allow Compute TiePoints: false
Supports Statistics: false
Supports Advanced Queries: false
Use StandardizedQueries: true
Raster Type Infos:
Name: Raster Dataset
Description: Supports all ArcGIS Raster Datasets
Help:
Has Raster Attribute Table: false
Edit Fields Info: null
Ownership Based AccessControl For Rasters: null
Child Resources:
Info
Histograms
Key Properties
Legend
Raster Function Infos
Supported Operations:
Export Image
Identify
Measure
Compute Histograms
Compute Statistics Histograms
Get Samples
Compute Class Statistics
Query Boundary
Compute Pixel Location
Compute Angles
Validate
Project