{
 "currentVersion": 10.91,
 "serviceDescription": "Nez Perce County, Lewis Clark Valley area 0.25 ortho images, from Aero-Graphics, Inc., flown on March 10, 2020. 300 tiles cover 88 square miles over the area of interest and are available in TIFF and SID formats.\n\nThe Lewis Clark Valley project was horizontally referenced to the North American Datum of 1983 (NAD83) 2011, Idaho: State Plane Idaho West Zone (Idaho portions), Washington: State Plane Washington South (Washington portions), and vertically referenced to the North American Vertical Datum of NAVD 1988. Survey Feet have been adusted to ground for the Idaho portions. Units are in U.S. Foot.",
 "name": "Flights/Imagery2020w",
 "description": "Nez Perce County, Lewis Clark Valley area 0.25 ortho images, from Aero-Graphics, Inc., flown on March 10, 2020. 300 tiles cover 88 square miles over the area of interest and are available in TIFF and SID formats.\n\nThe Lewis Clark Valley project was horizontally referenced to the North American Datum of 1983 (NAD83) 2011, Idaho: State Plane Idaho West Zone (Idaho portions), Washington: State Plane Washington South (Washington portions), and vertically referenced to the North American Vertical Datum of NAVD 1988. Survey Feet have been adusted to ground for the Idaho portions. Units are in U.S. Foot.",
 "extent": {
  "xmin": 2480999.755871,
  "ymin": 377999.853385,
  "xmax": 2520000.005871,
  "ymax": 423000.103385,
  "spatialReference": {
   "wkid": 102749,
   "latestWkid": 2286
  }
 },
 "initialExtent": {
  "xmin": 2480999.755871,
  "ymin": 377999.853385,
  "xmax": 2520000.005871,
  "ymax": 423000.103385,
  "spatialReference": {
   "wkid": 102749,
   "latestWkid": 2286
  }
 },
 "fullExtent": {
  "xmin": 2480999.755871,
  "ymin": 377999.853385,
  "xmax": 2520000.005871,
  "ymax": 423000.103385,
  "spatialReference": {
   "wkid": 102749,
   "latestWkid": 2286
  }
 },
 "pixelSizeX": 0.25,
 "pixelSizeY": 0.25,
 "bandCount": 3,
 "pixelType": "U8",
 "minPixelSize": 0.21701388888888887,
 "maxPixelSize": 55.55555555555555,
 "copyrightText": "",
 "serviceDataType": "esriImageServiceDataTypeRGB",
 "minValues": [
  5,
  7,
  4
 ],
 "maxValues": [
  255,
  255,
  255
 ],
 "meanValues": [
  166.8431227863,
  163.94731404959,
  156.62101534829
 ],
 "stdvValues": [
  76.571559311045,
  78.171526232042,
  83.815120559409
 ],
 "objectIdField": "",
 "fields": [],
 "capabilities": "Image,Metadata,Mensuration",
 "defaultMosaicMethod": "Center",
 "allowedMosaicMethods": "",
 "sortField": "",
 "sortValue": null,
 "sortAscending": true,
 "mosaicOperator": "First",
 "defaultCompressionQuality": 75,
 "defaultResamplingMethod": "Bilinear",
 "maxImageHeight": 4100,
 "maxImageWidth": 15000,
 "singleFusedMapCache": true,
 "tileInfo": {
  "rows": 256,
  "cols": 256,
  "dpi": 96,
  "format": "MIXED",
  "compressionQuality": 75,
  "origin": {
   "x": -117498300,
   "y": 139427100
  },
  "spatialReference": {
   "wkid": 102749,
   "latestWkid": 2286
  },
  "lods": [
   {
    "level": 0,
    "resolution": 1736.111111111111,
    "scale": 2000000
   },
   {
    "level": 1,
    "resolution": 868.0555555555555,
    "scale": 1000000
   },
   {
    "level": 2,
    "resolution": 434.02777777777777,
    "scale": 500000
   },
   {
    "level": 3,
    "resolution": 217.01388888888889,
    "scale": 250000
   },
   {
    "level": 4,
    "resolution": 108.50694444444444,
    "scale": 125000
   },
   {
    "level": 5,
    "resolution": 55.55555555555555,
    "scale": 64000
   },
   {
    "level": 6,
    "resolution": 27.777777777777775,
    "scale": 32000
   },
   {
    "level": 7,
    "resolution": 13.888888888888888,
    "scale": 16000
   },
   {
    "level": 8,
    "resolution": 6.944444444444444,
    "scale": 8000
   },
   {
    "level": 9,
    "resolution": 3.472222222222222,
    "scale": 4000
   },
   {
    "level": 10,
    "resolution": 1.736111111111111,
    "scale": 2000
   },
   {
    "level": 11,
    "resolution": 0.8680555555555555,
    "scale": 1000
   },
   {
    "level": 12,
    "resolution": 0.43402777777777773,
    "scale": 500
   },
   {
    "level": 13,
    "resolution": 0.21701388888888887,
    "scale": 250
   }
  ]
 },
 "cacheType": "Map",
 "allowRasterFunction": true,
 "rasterFunctionInfos": [
  {
   "name": "None",
   "description": "",
   "help": ""
  }
 ],
 "rasterTypeInfos": [
  {
   "name": "Raster Dataset",
   "description": "Supports all ArcGIS Raster Datasets",
   "help": ""
  }
 ],
 "mensurationCapabilities": "Basic",
 "hasHistograms": true,
 "hasColormap": false,
 "hasRasterAttributeTable": false,
 "minScale": 64000,
 "maxScale": 250,
 "exportTilesAllowed": false,
 "hasMultidimensions": false,
 "supportsStatistics": false,
 "supportsAdvancedQueries": false,
 "editFieldsInfo": null,
 "ownershipBasedAccessControlForRasters": null,
 "allowComputeTiePoints": false,
 "useStandardizedQueries": true,
 "advancedQueryCapabilities": {
  "useStandardizedQueries": true,
  "supportsStatistics": false,
  "supportsOrderBy": false,
  "supportsDistinct": false,
  "supportsPagination": false
 },
 "spatialReference": {
  "wkid": 102749,
  "latestWkid": 2286
 }
}
