View In:
ArcGIS JavaScript
ArcGIS Online Map Viewer
ArcGIS Earth
ArcMap
View Footprint In:
ArcGIS Online Map Viewer
Service Description: Imagery/Imagery2024sidAsotin
Name: Imagery/Imagery2024sidAsotin
Description:
Single Fused Map Cache: false
Extent:
XMin: -117.16944625188
YMin: 46.31665361647504
XMax: -117.01616559286502
YMax: 46.435292048475
Spatial Reference: 4326
(4326)
Initial Extent:
XMin: -117.16944625188
YMin: 46.31665361647504
XMax: -117.01616559286502
YMax: 46.435292048475
Spatial Reference: 4326
(4326)
Full Extent:
XMin: -117.16944625188
YMin: 46.31665361647504
XMax: -117.01616559286502
YMax: 46.435292048475
Spatial Reference: 4326
(4326)
Pixel Size X: 9.75644999999884E-7
Pixel Size Y: 9.75644999999686E-7
Band Count: 4
Pixel Type: U8
RasterFunction Infos: {"rasterFunctionInfos": [{
"name": "None",
"description": "",
"help": ""
}]}
Mensuration Capabilities: Basic
Has Histograms: true
Has Colormap: false
Has Multi Dimensions : false
Rendering Rule:
Min Scale: 0
Max Scale: 0
Copyright Text:
Service Data Type: esriImageServiceDataTypeGeneric
Min Values: 0, 0, 0, 0
Max Values: 191, 183, 173, 255
Mean Values: 74.925757575758, 62.098484848485, 46.086147186147, 155.34956709957
Standard Deviation Values: 61.04090164971, 50.48162451119, 37.981134851875, 122.5762157543
Object ID Field:
Fields:
None
Default Mosaic Method: Center
Allowed Mosaic Methods:
SortField:
SortValue: null
Mosaic Operator: First
Default Compression Quality: 75
Default Resampling Method: Bilinear
Max Record Count: null
Max Image Height: 4100
Max Image Width: 15000
Max Download Image Count: null
Max Mosaic Image Count: null
Allow Raster Function: true
Allow Copy: true
Allow Analysis: true
Allow Compute TiePoints: false
Supports Statistics: false
Supports Advanced Queries: false
Use StandardizedQueries: true
Raster Type Infos:
Name: Raster Dataset
Description: Supports all ArcGIS Raster Datasets
Help:
Has Raster Attribute Table: false
Edit Fields Info: null
Ownership Based AccessControl For Rasters: null
Child Resources:
Info
Histograms
Statistics
Key Properties
Legend
Raster Function Infos
Supported Operations:
Export Image
Identify
Measure
Compute Histograms
Compute Statistics Histograms
Get Samples
Compute Class Statistics
Query Boundary
Compute Pixel Location
Compute Angles
Validate
Project