View In:
ArcGIS JavaScript
ArcGIS Online Map Viewer
ArcGIS Earth
ArcMap
View Footprint In:
ArcGIS Online Map Viewer
Service Description: Imagery/Imagery2023s
Name: Imagery/Imagery2023s
Description:
Single Fused Map Cache: false
Extent:
XMin: 2292004.25
YMin: 1706998
XMax: 2349004.75
YMax: 1748998.25
Spatial Reference: PROJCS["NAD_1983_Idaho_West_ftUS",GEOGCS["GCS_North_American_1983",DATUM["D_North_American_1983",SPHEROID["GRS_1980",6378137.0,298.257222101]],PRIMEM["Greenwich",0.0],UNIT["Degree",0.0174532925199433]],PROJECTION["Transverse_Mercator"],PARAMETER["false_easting",2624666.667],PARAMETER["false_northing",0.0],PARAMETER["central_meridian",-115.75],PARAMETER["scale_factor",0.999933333],PARAMETER["latitude_of_origin",41.66666666666666],UNIT["Foot_US",0.3048006096012192]]
Initial Extent:
XMin: 2292004.25
YMin: 1706998
XMax: 2349004.75
YMax: 1748998.25
Spatial Reference: PROJCS["NAD_1983_Idaho_West_ftUS",GEOGCS["GCS_North_American_1983",DATUM["D_North_American_1983",SPHEROID["GRS_1980",6378137.0,298.257222101]],PRIMEM["Greenwich",0.0],UNIT["Degree",0.0174532925199433]],PROJECTION["Transverse_Mercator"],PARAMETER["false_easting",2624666.667],PARAMETER["false_northing",0.0],PARAMETER["central_meridian",-115.75],PARAMETER["scale_factor",0.999933333],PARAMETER["latitude_of_origin",41.66666666666666],UNIT["Foot_US",0.3048006096012192]]
Full Extent:
XMin: 2292004.25
YMin: 1706998
XMax: 2349004.75
YMax: 1748998.25
Spatial Reference: PROJCS["NAD_1983_Idaho_West_ftUS",GEOGCS["GCS_North_American_1983",DATUM["D_North_American_1983",SPHEROID["GRS_1980",6378137.0,298.257222101]],PRIMEM["Greenwich",0.0],UNIT["Degree",0.0174532925199433]],PROJECTION["Transverse_Mercator"],PARAMETER["false_easting",2624666.667],PARAMETER["false_northing",0.0],PARAMETER["central_meridian",-115.75],PARAMETER["scale_factor",0.999933333],PARAMETER["latitude_of_origin",41.66666666666666],UNIT["Foot_US",0.3048006096012192]]
Pixel Size X: 0.25
Pixel Size Y: 0.25
Band Count: 4
Pixel Type: U8
RasterFunction Infos: {"rasterFunctionInfos": [{
"name": "None",
"description": "",
"help": ""
}]}
Mensuration Capabilities: Basic
Has Histograms: true
Has Colormap: false
Has Multi Dimensions : false
Rendering Rule:
Min Scale: 0
Max Scale: 0
Copyright Text:
Service Data Type: esriImageServiceDataTypeGeneric
Min Values: 0, 0, 0, 0
Max Values: 239, 238, 234, 255
Mean Values: 76.377259036145, 69.042814113597, 56.906196213425, 163.82347246127
Standard Deviation Values: 59.672321258091, 52.707567462484, 43.7686943132, 121.16618211129
Object ID Field:
Fields:
None
Default Mosaic Method: Center
Allowed Mosaic Methods:
SortField:
SortValue: null
Mosaic Operator: First
Default Compression Quality: 75
Default Resampling Method: Bilinear
Max Record Count: null
Max Image Height: 4100
Max Image Width: 15000
Max Download Image Count: null
Max Mosaic Image Count: null
Allow Raster Function: true
Allow Copy: true
Allow Analysis: true
Allow Compute TiePoints: false
Supports Statistics: false
Supports Advanced Queries: false
Use StandardizedQueries: true
Raster Type Infos:
Name: Raster Dataset
Description: Supports all ArcGIS Raster Datasets
Help:
Has Raster Attribute Table: false
Edit Fields Info: null
Ownership Based AccessControl For Rasters: null
Child Resources:
Info
Histograms
Statistics
Key Properties
Legend
Raster Function Infos
Supported Operations:
Export Image
Identify
Measure
Compute Histograms
Compute Statistics Histograms
Get Samples
Compute Class Statistics
Query Boundary
Compute Pixel Location
Compute Angles
Validate
Project