{
 "currentVersion": 10.91,
 "serviceDescription": "Imagery/Imagery2025",
 "name": "Imagery/Imagery2025",
 "description": "",
 "extent": {
  "xmin": 2292004.25,
  "ymin": 1706998,
  "xmax": 2349004.75,
  "ymax": 1748998.25,
  "spatialReference": {
   "wkt": "PROJCS[\"NAD_1983_Idaho_West_ftUS\",GEOGCS[\"GCS_North_American_1983\",DATUM[\"D_North_American_1983\",SPHEROID[\"GRS_1980\",6378137.0,298.257222101]],PRIMEM[\"Greenwich\",0.0],UNIT[\"Degree\",0.0174532925199433]],PROJECTION[\"Transverse_Mercator\"],PARAMETER[\"false_easting\",2624666.667],PARAMETER[\"false_northing\",0.0],PARAMETER[\"central_meridian\",-115.75],PARAMETER[\"scale_factor\",0.999933333],PARAMETER[\"latitude_of_origin\",41.66666666666666],UNIT[\"Foot_US\",0.3048006096012192]]"
  }
 },
 "initialExtent": {
  "xmin": 2292004.25,
  "ymin": 1706998,
  "xmax": 2349004.75,
  "ymax": 1748998.25,
  "spatialReference": {
   "wkt": "PROJCS[\"NAD_1983_Idaho_West_ftUS\",GEOGCS[\"GCS_North_American_1983\",DATUM[\"D_North_American_1983\",SPHEROID[\"GRS_1980\",6378137.0,298.257222101]],PRIMEM[\"Greenwich\",0.0],UNIT[\"Degree\",0.0174532925199433]],PROJECTION[\"Transverse_Mercator\"],PARAMETER[\"false_easting\",2624666.667],PARAMETER[\"false_northing\",0.0],PARAMETER[\"central_meridian\",-115.75],PARAMETER[\"scale_factor\",0.999933333],PARAMETER[\"latitude_of_origin\",41.66666666666666],UNIT[\"Foot_US\",0.3048006096012192]]"
  }
 },
 "fullExtent": {
  "xmin": 2292004.25,
  "ymin": 1706998,
  "xmax": 2349004.75,
  "ymax": 1748998.25,
  "spatialReference": {
   "wkt": "PROJCS[\"NAD_1983_Idaho_West_ftUS\",GEOGCS[\"GCS_North_American_1983\",DATUM[\"D_North_American_1983\",SPHEROID[\"GRS_1980\",6378137.0,298.257222101]],PRIMEM[\"Greenwich\",0.0],UNIT[\"Degree\",0.0174532925199433]],PROJECTION[\"Transverse_Mercator\"],PARAMETER[\"false_easting\",2624666.667],PARAMETER[\"false_northing\",0.0],PARAMETER[\"central_meridian\",-115.75],PARAMETER[\"scale_factor\",0.999933333],PARAMETER[\"latitude_of_origin\",41.66666666666666],UNIT[\"Foot_US\",0.3048006096012192]]"
  }
 },
 "hasMultidimensions": false,
 "pixelSizeX": 0.25,
 "pixelSizeY": 0.25,
 "datasetFormat": "MrSID",
 "uncompressedSize": 153218256008,
 "blockWidth": 1024,
 "blockHeight": 128,
 "compressionType": "Wavelet (MG4)",
 "bandNames": [
  "Band_1",
  "Band_2",
  "Band_3",
  "Band_4"
 ],
 "allowCopy": true,
 "allowAnalysis": true,
 "bandCount": 4,
 "pixelType": "U8",
 "minPixelSize": 0,
 "maxPixelSize": 0,
 "copyrightText": "",
 "serviceDataType": "esriImageServiceDataTypeGeneric",
 "serviceSourceType": "esriImageServiceSourceTypeDataset",
 "minValues": [
  1,
  0,
  0,
  0
 ],
 "maxValues": [
  214,
  205,
  204,
  255
 ],
 "meanValues": [
  114.94064452483,
  99.755343636961,
  83.343965800724,
  163.82465576592
 ],
 "stdvValues": [
  23.994037585142,
  18.360094049076,
  15.729621222777,
  121.16454979503
 ],
 "objectIdField": "",
 "fields": [],
 "capabilities": "Image,Metadata,Mensuration",
 "defaultMosaicMethod": "Center",
 "allowedMosaicMethods": "",
 "sortField": "",
 "sortValue": null,
 "sortAscending": true,
 "mosaicOperator": "First",
 "defaultCompressionQuality": 75,
 "defaultResamplingMethod": "Bilinear",
 "maxImageHeight": 4100,
 "maxImageWidth": 15000,
 "allowRasterFunction": true,
 "rasterFunctionInfos": [
  {
   "name": "None",
   "description": "",
   "help": ""
  }
 ],
 "rasterTypeInfos": [
  {
   "name": "Raster Dataset",
   "description": "Supports all ArcGIS Raster Datasets",
   "help": ""
  }
 ],
 "mensurationCapabilities": "Basic",
 "hasHistograms": true,
 "hasColormap": false,
 "hasRasterAttributeTable": false,
 "minScale": 0,
 "maxScale": 0,
 "exportTilesAllowed": false,
 "supportsStatistics": false,
 "supportsAdvancedQueries": false,
 "editFieldsInfo": null,
 "ownershipBasedAccessControlForRasters": null,
 "allowComputeTiePoints": false,
 "useStandardizedQueries": true,
 "advancedQueryCapabilities": {
  "useStandardizedQueries": true,
  "supportsStatistics": false,
  "supportsOrderBy": false,
  "supportsDistinct": false,
  "supportsPagination": false
 },
 "spatialReference": {
  "wkt": "PROJCS[\"NAD_1983_Idaho_West_ftUS\",GEOGCS[\"GCS_North_American_1983\",DATUM[\"D_North_American_1983\",SPHEROID[\"GRS_1980\",6378137.0,298.257222101]],PRIMEM[\"Greenwich\",0.0],UNIT[\"Degree\",0.0174532925199433]],PROJECTION[\"Transverse_Mercator\"],PARAMETER[\"false_easting\",2624666.667],PARAMETER[\"false_northing\",0.0],PARAMETER[\"central_meridian\",-115.75],PARAMETER[\"scale_factor\",0.999933333],PARAMETER[\"latitude_of_origin\",41.66666666666666],UNIT[\"Foot_US\",0.3048006096012192]]"
 }
}
