{
 "currentVersion": 10.91,
 "serviceDescription": "Imagery/Imagery2020c",
 "name": "Imagery/Imagery2020c",
 "description": "",
 "extent": {
  "xmin": 2292000,
  "ymin": 1697452.25,
  "xmax": 2349000,
  "ymax": 1749000,
  "spatialReference": {
   "wkid": 102670,
   "latestWkid": 2243
  }
 },
 "initialExtent": {
  "xmin": 2292000,
  "ymin": 1697452.25,
  "xmax": 2349000,
  "ymax": 1749000,
  "spatialReference": {
   "wkid": 102670,
   "latestWkid": 2243
  }
 },
 "fullExtent": {
  "xmin": 2292000,
  "ymin": 1697452.25,
  "xmax": 2349000,
  "ymax": 1749000,
  "spatialReference": {
   "wkid": 102670,
   "latestWkid": 2243
  }
 },
 "hasMultidimensions": false,
 "pixelSizeX": 0.25,
 "pixelSizeY": 0.25,
 "datasetFormat": "MrSID",
 "uncompressedSize": 141034644000,
 "blockWidth": 1024,
 "blockHeight": 128,
 "compressionType": "Wavelet (MG3)",
 "bandNames": [
  "Band_1",
  "Band_2",
  "Band_3"
 ],
 "allowCopy": true,
 "allowAnalysis": true,
 "bandCount": 3,
 "pixelType": "U8",
 "minPixelSize": 0,
 "maxPixelSize": 0,
 "copyrightText": "",
 "serviceDataType": "esriImageServiceDataTypeRGB",
 "serviceSourceType": "esriImageServiceSourceTypeDataset",
 "minValues": [
  20,
  20,
  8
 ],
 "maxValues": [
  255,
  255,
  255
 ],
 "meanValues": [
  173.66666666667,
  170.94397759104,
  163.6106442577
 ],
 "stdvValues": [
  74.985322248787,
  76.882292613528,
  83.244036967349
 ],
 "objectIdField": "",
 "fields": [],
 "capabilities": "Image, Metadata, Mensuration",
 "defaultMosaicMethod": "Center",
 "allowedMosaicMethods": "",
 "sortField": "",
 "sortValue": null,
 "sortAscending": true,
 "mosaicOperator": "First",
 "defaultCompressionQuality": 75,
 "defaultResamplingMethod": "Bilinear",
 "maxImageHeight": 4100,
 "maxImageWidth": 15000,
 "allowRasterFunction": true,
 "rasterFunctionInfos": [
  {
   "name": "None",
   "description": "",
   "help": ""
  }
 ],
 "rasterTypeInfos": [
  {
   "name": "Raster Dataset",
   "description": "Supports all ArcGIS Raster Datasets",
   "help": ""
  }
 ],
 "mensurationCapabilities": "Basic",
 "hasHistograms": true,
 "hasColormap": false,
 "hasRasterAttributeTable": false,
 "minScale": 0,
 "maxScale": 0,
 "exportTilesAllowed": false,
 "supportsStatistics": false,
 "supportsAdvancedQueries": false,
 "editFieldsInfo": null,
 "ownershipBasedAccessControlForRasters": null,
 "allowComputeTiePoints": false,
 "useStandardizedQueries": true,
 "advancedQueryCapabilities": {
  "useStandardizedQueries": true,
  "supportsStatistics": false,
  "supportsOrderBy": false,
  "supportsDistinct": false,
  "supportsPagination": false
 },
 "spatialReference": {
  "wkid": 102670,
  "latestWkid": 2243
 }
}
