{
 "currentVersion": 10.91,
 "serviceDescription": "Hosted/2022_Mosaic",
 "name": "Hosted/2022_Mosaic",
 "description": "",
 "extent": {
  "xmin": -1.3032171378899999E7,
  "ymin": 5835322.235551718,
  "xmax": -1.3006741406840056E7,
  "ymax": 5854296.378300003,
  "spatialReference": {
   "wkid": 102100,
   "latestWkid": 3857
  }
 },
 "initialExtent": {
  "xmin": -1.3032171378899999E7,
  "ymin": 5835322.235551718,
  "xmax": -1.3006741406840056E7,
  "ymax": 5854296.378300003,
  "spatialReference": {
   "wkid": 102100,
   "latestWkid": 3857
  }
 },
 "fullExtent": {
  "xmin": -1.3032171378899999E7,
  "ymin": 5835322.235551718,
  "xmax": -1.3006741406840056E7,
  "ymax": 5854296.378300003,
  "spatialReference": {
   "wkid": 102100,
   "latestWkid": 3857
  }
 },
 "hasMultidimensions": false,
 "pixelSizeX": 0.07620015240030079,
 "pixelSizeY": 0.07620015240030314,
 "datasetFormat": "Cache/LERC2D",
 "uncompressedSize": 249297326712,
 "blockWidth": 256,
 "blockHeight": 256,
 "compressionType": "LERC2D",
 "bandNames": [
  "Band_1",
  "Band_2",
  "Band_3"
 ],
 "allowCopy": true,
 "allowAnalysis": true,
 "bandCount": 3,
 "noDataValue": 256,
 "noDataValues": [
  256,
  256,
  256
 ],
 "pixelType": "U8",
 "minPixelSize": 0,
 "maxPixelSize": 0,
 "copyrightText": "",
 "serviceDataType": "esriImageServiceDataTypeProcessed",
 "serviceSourceType": "esriImageServiceSourceTypeDataset",
 "minValues": [
  0,
  0,
  0
 ],
 "maxValues": [
  255,
  255,
  255
 ],
 "meanValues": [
  123.885685285477,
  110.0291907481142,
  87.05235007524405
 ],
 "stdvValues": [
  46.91987865693103,
  38.40587787600364,
  35.20146556541749
 ],
 "objectIdField": "",
 "fields": [],
 "capabilities": "Image, Metadata",
 "defaultMosaicMethod": "Center",
 "allowedMosaicMethods": "",
 "sortField": "",
 "sortValue": null,
 "sortAscending": true,
 "mosaicOperator": "First",
 "defaultCompressionQuality": 75,
 "defaultResamplingMethod": "Bilinear",
 "maxImageHeight": 4100,
 "maxImageWidth": 15000,
 "singleFusedMapCache": true,
 "tileInfo": {
  "rows": 256,
  "cols": 256,
  "dpi": 96,
  "format": "LERC2D",
  "compressionQuality": 100000,
  "lercError": 0.1,
  "origin": {
   "x": -1.3032171378899999E7,
   "y": 5854296.378300003
  },
  "spatialReference": {
   "wkid": 102100,
   "latestWkid": 3857
  },
  "lods": [
   {
    "level": 0,
    "resolution": 78.02895605791042,
    "scale": 294911.9999999936
   },
   {
    "level": 1,
    "resolution": 39.01447802895521,
    "scale": 147455.9999999968
   },
   {
    "level": 2,
    "resolution": 19.507239014477605,
    "scale": 73727.9999999984
   },
   {
    "level": 3,
    "resolution": 9.753619507238803,
    "scale": 36863.9999999992
   },
   {
    "level": 4,
    "resolution": 4.876809753619401,
    "scale": 18431.9999999996
   },
   {
    "level": 5,
    "resolution": 2.4384048768097006,
    "scale": 9215.9999999998
   },
   {
    "level": 6,
    "resolution": 1.2192024384048503,
    "scale": 4607.9999999999
   },
   {
    "level": 7,
    "resolution": 0.6096012192024252,
    "scale": 2303.99999999995
   },
   {
    "level": 8,
    "resolution": 0.3048006096012126,
    "scale": 1151.999999999975
   },
   {
    "level": 9,
    "resolution": 0.1524003048006063,
    "scale": 575.9999999999875
   },
   {
    "level": 10,
    "resolution": 0.07620015240030314,
    "scale": 287.99999999999375
   }
  ]
 },
 "storageInfo": {
  "storageFormat": "esriMapCacheStorageModeCompactV2",
  "packetSize": 16
 },
 "cacheType": "Raster",
 "allowRasterFunction": true,
 "rasterFunctionInfos": [
  {
   "name": "None",
   "description": "Make a Raster or Raster Dataset into a Function Raster Dataset.",
   "help": ""
  }
 ],
 "rasterTypeInfos": [
  {
   "name": "Raster Dataset",
   "description": "Supports all ArcGIS Raster Datasets",
   "help": ""
  }
 ],
 "mensurationCapabilities": "Basic",
 "hasHistograms": true,
 "hasColormap": false,
 "hasRasterAttributeTable": false,
 "minScale": 0,
 "maxScale": 0,
 "exportTilesAllowed": false,
 "supportsStatistics": false,
 "supportsAdvancedQueries": false,
 "editFieldsInfo": null,
 "ownershipBasedAccessControlForRasters": null,
 "allowComputeTiePoints": false,
 "useStandardizedQueries": true,
 "advancedQueryCapabilities": {
  "useStandardizedQueries": true,
  "supportsStatistics": false,
  "supportsOrderBy": false,
  "supportsDistinct": false,
  "supportsPagination": false
 },
 "spatialReference": {
  "wkid": 102100,
  "latestWkid": 3857
 }
}
